BEGIN:VCALENDAR
VERSION:2.0
CALSCALE:GREGORIAN
PRODID:adamgibbons/ics
METHOD:PUBLISH
X-PUBLISHED-TTL:PT1H
BEGIN:VEVENT
UID:255@durockrj.com.br
SUMMARY:Rock na Roça 4 - O Melhor Festival de Rock da Região
DTSTAMP:20260419T164105Z
DTSTART:20260425T160000Z
URL:https://durockrj.com.br/event/rock-na-roca-4-o-melhor-festival-de-rock-
	da-regiao
GEO:-22.236671;-43.3166885
LOCATION:Fazenda Hotel Jatahy - Estrada Cavaru-Sertão do Calixto\, s/n Cava
	ru\, Paraíba do Sul - RJ
STATUS:CONFIRMED
CATEGORIES:paraiba do sul,sul fluminense
END:VEVENT
END:VCALENDAR
